BEGIN:VCALENDAR
VERSION:2.0
PRODID:-//South Dundas Chambers of Commerce - ECPv6.15.20//NONSGML v1.0//EN
CALSCALE:GREGORIAN
METHOD:PUBLISH
X-ORIGINAL-URL:https://southdundaschamber.ca
X-WR-CALDESC:Events for South Dundas Chambers of Commerce
REFRESH-INTERVAL;VALUE=DURATION:PT1H
X-Robots-Tag:noindex
X-PUBLISHED-TTL:PT1H
BEGIN:VTIMEZONE
TZID:America/Toronto
BEGIN:DAYLIGHT
TZOFFSETFROM:-0500
TZOFFSETTO:-0400
TZNAME:EDT
DTSTART:20250309T070000
END:DAYLIGHT
BEGIN:STANDARD
TZOFFSETFROM:-0400
TZOFFSETTO:-0500
TZNAME:EST
DTSTART:20251102T060000
END:STANDARD
BEGIN:DAYLIGHT
TZOFFSETFROM:-0500
TZOFFSETTO:-0400
TZNAME:EDT
DTSTART:20260308T070000
END:DAYLIGHT
BEGIN:STANDARD
TZOFFSETFROM:-0400
TZOFFSETTO:-0500
TZNAME:EST
DTSTART:20261101T060000
END:STANDARD
BEGIN:DAYLIGHT
TZOFFSETFROM:-0500
TZOFFSETTO:-0400
TZNAME:EDT
DTSTART:20270314T070000
END:DAYLIGHT
BEGIN:STANDARD
TZOFFSETFROM:-0400
TZOFFSETTO:-0500
TZNAME:EST
DTSTART:20271107T060000
END:STANDARD
END:VTIMEZONE
BEGIN:VEVENT
DTSTART;TZID=America/Toronto:20261015T190000
DTEND;TZID=America/Toronto:20261015T210000
DTSTAMP:20260419T091031
CREATED:20251128T150600Z
LAST-MODIFIED:20251215T182818Z
UID:1019-1792090800-1792098000@southdundaschamber.ca
SUMMARY:Thursday\, October 15\, 2026: Comedy for Cancer & Other Charities
DESCRIPTION:🤣 October 15\, 2026: Comedy for Cancer & Other Charities\nCome out for a night of laughs supporting a great cause! Join us for a Live Comedy event to raise funds for Cancer & other charities. Ticket price includes snacks and tax\, with door prizes available. \nEvent Details\n\nDate: Thursday\, October 15\, 2026\nTime: 7:00 PM – 9:00 PM\nLocation: T.B.A. (Details to follow in January 2026)\nCost: $25 (Chamber members\, includes snacks/tax)\, $29.99 (Non-members/Public). Prices may vary slightly.\nNotes: Drinks cost extra.\n\n☎ Contact & Details\n\nRSVP/Payment: Email manager@southdundaschamber.ca to confirm attendance and send an EFT for the event\, specifying the event and date. Payment confirms your reservation.\nManager Email: manager@southdundaschamber.ca\nPresident Contact (Randy North): 613-340-0794\nDisclaimer: Above events are subject to change\, however unlikely.
URL:https://southdundaschamber.ca/event/october-15-2026-comedy-for-cancer-other-charities/
ATTACH;FMTTYPE=image/png:https://southdundaschamber.ca/wp-content/uploads/2025/11/Chamber-Logogo-e1763064165654.png
END:VEVENT
END:VCALENDAR