BEGIN:VCALENDAR
VERSION:2.0
PRODID:-//South Dundas Chambers of Commerce - ECPv6.15.20//NONSGML v1.0//EN
CALSCALE:GREGORIAN
METHOD:PUBLISH
X-ORIGINAL-URL:https://southdundaschamber.ca
X-WR-CALDESC:Events for South Dundas Chambers of Commerce
REFRESH-INTERVAL;VALUE=DURATION:PT1H
X-Robots-Tag:noindex
X-PUBLISHED-TTL:PT1H
BEGIN:VTIMEZONE
TZID:America/Toronto
BEGIN:DAYLIGHT
TZOFFSETFROM:-0500
TZOFFSETTO:-0400
TZNAME:EDT
DTSTART:20250309T070000
END:DAYLIGHT
BEGIN:STANDARD
TZOFFSETFROM:-0400
TZOFFSETTO:-0500
TZNAME:EST
DTSTART:20251102T060000
END:STANDARD
BEGIN:DAYLIGHT
TZOFFSETFROM:-0500
TZOFFSETTO:-0400
TZNAME:EDT
DTSTART:20260308T070000
END:DAYLIGHT
BEGIN:STANDARD
TZOFFSETFROM:-0400
TZOFFSETTO:-0500
TZNAME:EST
DTSTART:20261101T060000
END:STANDARD
BEGIN:DAYLIGHT
TZOFFSETFROM:-0500
TZOFFSETTO:-0400
TZNAME:EDT
DTSTART:20270314T070000
END:DAYLIGHT
BEGIN:STANDARD
TZOFFSETFROM:-0400
TZOFFSETTO:-0500
TZNAME:EST
DTSTART:20271107T060000
END:STANDARD
END:VTIMEZONE
BEGIN:VEVENT
DTSTART;VALUE=DATE:20261101
DTEND;VALUE=DATE:20261201
DTSTAMP:20260419T150838
CREATED:20251128T150944Z
LAST-MODIFIED:20251215T182848Z
UID:1021-1793491200-1796083199@southdundaschamber.ca
SUMMARY:November 2026: Masquerade Ball
DESCRIPTION:🎯 November 2026: Masquerade Ball\nA sophisticated night of mystery and fun! November 2026 will feature the Chamber’s first Masquerade Ball. Details are still being finalized\, and we are actively seeking volunteers to help organize this new event! \nEvent Details\n\nDate: November 2026\nTime: Details to follow\nLocation: Details to follow\nNotes: We need help to organize! Contact the manager if you’re interested.\n\n☎ Contact & Details\n\nRSVP/Payment: Details to follow.\nManager Email: manager@southdundaschamber.ca\nPresident Contact (Randy North): 613-340-0794\nDisclaimer: Above events are subject to change\, however unlikely.
URL:https://southdundaschamber.ca/event/november-2026-masquerade-ball/
ATTACH;FMTTYPE=image/png:https://southdundaschamber.ca/wp-content/uploads/2025/11/Chamber-Logogo-e1763064165654.png
END:VEVENT
END:VCALENDAR